BEGIN:VCALENDAR
VERSION:2.0
METHOD:PUBLISH
X-WR-CALNAME;VALUE=TEXT:Agenda #4863
PRODID:-//Drupal iCal API//EN
BEGIN:VEVENT
SUMMARY: Salon jeunes d'avenir - Paris event center le 14 septembre 2022
DTSTART: 20220914T070000
DTEND: 20220914T160000
DESCRIPTION: A la recherche d'un projet professionnel,&nbsp; d’une entreprise pour un emploi ou une&nbsp;alternance, venez-retrouver l'AFT Ile-de-France&nbsp;au salon jeunes d'avenir à La Villette !&nbsp;
END:VEVENT
BEGIN:VEVENT
SUMMARY: Salon jeunes d'avenir - Paris event center le 14 septembre 2022
DTSTART: 20220914T070000
DTEND: 20220914T160000
DESCRIPTION: A la recherche d'un projet professionnel,&nbsp; d’une entreprise pour un emploi ou une&nbsp;alternance, venez-retrouver l'AFT Ile-de-France&nbsp;au salon jeunes d'avenir à La Villette !&nbsp;
END:VEVENT
BEGIN:VEVENT
SUMMARY: Salon jeunes d'avenir - Paris event center le 14 septembre 2022
DTSTART: 20220914T070000
DTEND: 20220914T160000
DESCRIPTION: A la recherche d'un projet professionnel,&nbsp; d’une entreprise pour un emploi ou une&nbsp;alternance, venez-retrouver l'AFT Ile-de-France&nbsp;au salon jeunes d'avenir à La Villette !&nbsp;
END:VEVENT
END:VCALENDAR
