BEGIN:VCALENDAR
VERSION:2.0
METHOD:PUBLISH
X-WR-CALNAME;VALUE=TEXT:Agenda #4868
PRODID:-//Drupal iCal API//EN
BEGIN:VEVENT
SUMMARY: Forum Emploi - Montesson - 28 septembre 2022
DTSTART: 20220928T080000
DTEND: 20220928T160000
DESCRIPTION: L'AFT&nbsp;vous attend nombreux !

Venez&nbsp;découvrir l'univers du Transport &amp; de la Logistique et nous vous orienterons vers les&nbsp;formations des organismes spécialisés&nbsp;ou les postes à pourvoir de nos entreprises partenaires.&nbsp;
END:VEVENT
END:VCALENDAR
