BEGIN:VCALENDAR
VERSION:2.0
METHOD:PUBLISH
X-WR-CALNAME;VALUE=TEXT:Agenda #4872
PRODID:-//Drupal iCal API//EN
BEGIN:VEVENT
SUMMARY: Portes Ouvertes sur l'Emploi conducteur/conductrice chez Borini à Douvaine (74)
DTSTART: 20220924T070000
DTEND: 20220924T110000
DESCRIPTION: L'entreprise BORINI Chablais&nbsp;ouvre ses portes et met&nbsp;en lumière les métiers de conducteur/conductrice en transport de personnes !

Vous souhaitez en savoir plus sur des métiers qui recrutent !&nbsp;

N'hésitez pas à venir avec votre CV !
END:VEVENT
END:VCALENDAR
