BEGIN:VCALENDAR
VERSION:2.0
METHOD:PUBLISH
X-WR-CALNAME;VALUE=TEXT:Agenda #4879
PRODID:-//Drupal iCal API//EN
BEGIN:VEVENT
SUMMARY: Les Prescript'heures Hauts-de-France : Le Transport Routier de Voyageurs
DTSTART: 20221010T120000
DTEND: 20221010T133000
DESCRIPTION: Les "PRESCRIPT'heures" sont des&nbsp;Webinaires proposés et animés par l'AFT Hauts-de-France.&nbsp;Ils sont&nbsp;dédiés aux professionnels de l’orientation et de l’insertion.&nbsp;Actualisez vos connaissances sur les métiers du secteur du Transport Routier de Voyageurs!
END:VEVENT
BEGIN:VEVENT
SUMMARY: Les Prescript'heures Hauts-de-France : Le Transport Routier de Voyageurs
DTSTART: 20221010T120000
DTEND: 20221010T133000
DESCRIPTION: Les "PRESCRIPT'heures" sont des&nbsp;Webinaires proposés et animés par l'AFT Hauts-de-France.&nbsp;Ils sont&nbsp;dédiés aux professionnels de l’orientation et de l’insertion.&nbsp;Actualisez vos connaissances sur les métiers du secteur du Transport Routier de Voyageurs!
END:VEVENT
END:VCALENDAR
