BEGIN:VCALENDAR
VERSION:2.0
METHOD:PUBLISH
X-WR-CALNAME;VALUE=TEXT:Agenda #4950
PRODID:-//Drupal iCal API//EN
BEGIN:VEVENT
SUMMARY: PRESCRIPT'heures
DTSTART: 20221010T120000
DTEND: 20221212T143000
DESCRIPTION: Nous vous proposons, dans le Grand Est, des réunions "PRESCRIPT'heures"&nbsp;destinées&nbsp;aux&nbsp;conseillers et professionnels de l’orientation et de l’insertion.
END:VEVENT
END:VCALENDAR
