BEGIN:VCALENDAR
VERSION:2.0
METHOD:PUBLISH
X-WR-CALNAME;VALUE=TEXT:Agenda #4953
PRODID:-//Drupal iCal API//EN
BEGIN:VEVENT
SUMMARY: Salon Place Ô Gestes 2022 à Nantes
DTSTART: 20221006T073000
DTEND: 20221007T140000
DESCRIPTION: Après un rendez-vous annulé en avril suite à des intempéries, Place Ô Gestes,&nbsp;revient les jeudi 6 et vendredi 7 octobre.

Le principe est simple : s'essayer à différents métiers par&nbsp;un geste !
END:VEVENT
BEGIN:VEVENT
SUMMARY: Salon Place Ô Gestes 2022 à Nantes
DTSTART: 20221006T073000
DTEND: 20221007T140000
DESCRIPTION: Après un rendez-vous annulé en avril suite à des intempéries, Place Ô Gestes,&nbsp;revient les jeudi 6 et vendredi 7 octobre.

Le principe est simple : s'essayer à différents métiers par&nbsp;un geste !
END:VEVENT
END:VCALENDAR
