BEGIN:VCALENDAR
VERSION:2.0
METHOD:PUBLISH
X-WR-CALNAME;VALUE=TEXT:Agenda #4955
PRODID:-//Drupal iCal API//EN
BEGIN:VEVENT
SUMMARY: Forum Emploi et découverte des métiers XPO Logistics au campus de Sport dans la Ville (Lyon)
DTSTART: 20220929T120000
DTEND: 20220929T150000
DESCRIPTION: XPO Logstics s'associe avec l'association Sport dans la Ville pour faire découvrir les opportunités d'emploi, de stage et d'alternance au sein de leur entreprise !
END:VEVENT
END:VCALENDAR
