BEGIN:VCALENDAR
VERSION:2.0
METHOD:PUBLISH
X-WR-CALNAME;VALUE=TEXT:Agenda #4958
PRODID:-//Drupal iCal API//EN
BEGIN:VEVENT
SUMMARY: Salon Technotrans 2022 au parc des expositions de Nantes
DTSTART: 20221020T080000
DTEND: 20221022T150000
DESCRIPTION: Du 20 au 22 octobre, le monde du Transport Routier vous ouvre ses portes!
&nbsp;
END:VEVENT
BEGIN:VEVENT
SUMMARY: Salon Technotrans 2022 au parc des expositions de Nantes
DTSTART: 20221020T080000
DTEND: 20221022T150000
DESCRIPTION: Du 20 au 22 octobre, le monde du Transport Routier vous ouvre ses portes!
&nbsp;
END:VEVENT
BEGIN:VEVENT
SUMMARY: Salon Technotrans 2022 au parc des expositions de Nantes
DTSTART: 20221020T080000
DTEND: 20221022T150000
DESCRIPTION: Du 20 au 22 octobre, le monde du Transport Routier vous ouvre ses portes!
&nbsp;
END:VEVENT
END:VCALENDAR
