BEGIN:VCALENDAR
VERSION:2.0
METHOD:PUBLISH
X-WR-CALNAME;VALUE=TEXT:Agenda #4961
PRODID:-//Drupal iCal API//EN
BEGIN:VEVENT
SUMMARY: Les métiers du transport et de la logistique - CCI de Seine-et-Marne
DTSTART: 20221007T080000
DTEND: 20221007T140000
DESCRIPTION: Le Point Orientation Apprentissage a sollicité l'AFT Transport &amp; Logistique&nbsp;pour animer des conférences métiers et formations en direction de lycéens suivant une formation Transport ou Logistique et de collégiens du 77.&nbsp;

5 jeunes et un professeur du&nbsp;lycée du Campus de Coulommiers (formations CAP et&nbsp;BAC pro Conduite Routière de Marchandises) viendront avec un Poids Lourd &nbsp;présenter&nbsp;les métiers de la conduite.&nbsp;
END:VEVENT
END:VCALENDAR
