BEGIN:VCALENDAR
VERSION:2.0
METHOD:PUBLISH
X-WR-CALNAME;VALUE=TEXT:Agenda #5080
PRODID:-//Drupal iCal API//EN
BEGIN:VEVENT
SUMMARY: Animation pour la semaine Transport Logistique, le 6 décembre
DTSTART: 20221206T083000
DTEND: 20221206T100000
DESCRIPTION: La semaine du 5 au 9 décembre 2022 est consacré à&nbsp;un secteur qui recrute :&nbsp;
le Transport et la Logistique !

&nbsp;



&nbsp;
END:VEVENT
BEGIN:VEVENT
SUMMARY: Animation pour la semaine Transport Logistique, le 6 décembre
DTSTART: 20221206T083000
DTEND: 20221206T100000
DESCRIPTION: La semaine du 5 au 9 décembre 2022 est consacré à&nbsp;un secteur qui recrute :&nbsp;
le Transport et la Logistique !

&nbsp;



&nbsp;
END:VEVENT
END:VCALENDAR
