BEGIN:VCALENDAR
VERSION:2.0
METHOD:PUBLISH
X-WR-CALNAME;VALUE=TEXT:Agenda #5081
PRODID:-//Drupal iCal API//EN
BEGIN:VEVENT
SUMMARY: Salon des transitions professionnelles le 29 novembre 2022 à la Cité des sciences et de l'industrie à Paris
DTSTART: 20221129T080000
DTEND: 20221129T170000
DESCRIPTION: Vous souhaitez booster votre carrière ? Trouver une formation qui vous correspond ou un métier qui a le vent en poupe ? Reprendre ou créer une entreprise ?

La délégation Ile-de-France de&nbsp;AFT Transport &amp; Logistique&nbsp;vous donne rendez-vous au côté du&nbsp;MEDEF IDF&nbsp;pour le&nbsp; Salon des transitions professionnelles le 29 novembre prochain !

&nbsp;

&nbsp;
END:VEVENT
END:VCALENDAR
