BEGIN:VCALENDAR
VERSION:2.0
METHOD:PUBLISH
X-WR-CALNAME;VALUE=TEXT:Agenda #5083
PRODID:-//Drupal iCal API//EN
BEGIN:VEVENT
SUMMARY: Forum Orientation et Formation le 30 Novembre à la MDEF d'Evry
DTSTART: 20221130T083000
DTEND: 20221130T110000
DESCRIPTION: La&nbsp;Maison De l'Emploi et de la Formation (MDEF) de Grand Paris Sud &nbsp;organise un Forum «&nbsp;Place Des Opportunités&nbsp;» dédié&nbsp;à l'orientation et&nbsp;la formation sur son site d'Evry.
END:VEVENT
END:VCALENDAR
