BEGIN:VCALENDAR
VERSION:2.0
METHOD:PUBLISH
X-WR-CALNAME;VALUE=TEXT:Agenda #5085
PRODID:-//Drupal iCal API//EN
BEGIN:VEVENT
SUMMARY: Semaine du Transport et Logistique 2022
DTSTART: 20221204T230000
DTEND: 20221208T230000
DESCRIPTION: Du 5 décembre au 9 décembre 2022 se déroulera la semaine du transport et logistique, organisé par Pôle Emploi,&nbsp;dans le Grand Est mais aussi sur l'ensemble du territoire national. Une occasion de mettre en lumière plus de 50 métiers du secteur !&nbsp;

&nbsp;
END:VEVENT
BEGIN:VEVENT
SUMMARY: Semaine du Transport et Logistique 2022
DTSTART: 20221204T230000
DTEND: 20221208T230000
DESCRIPTION: Du 5 décembre au 9 décembre 2022 se déroulera la semaine du transport et logistique, organisé par Pôle Emploi,&nbsp;dans le Grand Est mais aussi sur l'ensemble du territoire national. Une occasion de mettre en lumière plus de 50 métiers du secteur !&nbsp;

&nbsp;
END:VEVENT
BEGIN:VEVENT
SUMMARY: Semaine du Transport et Logistique 2022
DTSTART: 20221204T230000
DTEND: 20221208T230000
DESCRIPTION: Du 5 décembre au 9 décembre 2022 se déroulera la semaine du transport et logistique, organisé par Pôle Emploi,&nbsp;dans le Grand Est mais aussi sur l'ensemble du territoire national. Une occasion de mettre en lumière plus de 50 métiers du secteur !&nbsp;

&nbsp;
END:VEVENT
BEGIN:VEVENT
SUMMARY: Semaine du Transport et Logistique 2022
DTSTART: 20221204T230000
DTEND: 20221208T230000
DESCRIPTION: Du 5 décembre au 9 décembre 2022 se déroulera la semaine du transport et logistique, organisé par Pôle Emploi,&nbsp;dans le Grand Est mais aussi sur l'ensemble du territoire national. Une occasion de mettre en lumière plus de 50 métiers du secteur !&nbsp;

&nbsp;
END:VEVENT
END:VCALENDAR
