BEGIN:VCALENDAR
VERSION:2.0
METHOD:PUBLISH
X-WR-CALNAME;VALUE=TEXT:Agenda #5087
PRODID:-//Drupal iCal API//EN
BEGIN:VEVENT
SUMMARY: Présentation des métiers du Transport et Logistique / Rencontre et Recrutement - Pôle Emploi Agence de Schiltigheim (67)
DTSTART: 20221206T133000
DTEND: 20221206T153000
DESCRIPTION: Le 06 décembre 2022, l'AFT Transport Logistique sera présente à l'agence Pôle Emploi de Schiltigheim afin de faire découvrir les opportunités du secteur transport logistique au public.

&nbsp;
END:VEVENT
BEGIN:VEVENT
SUMMARY: Présentation des métiers du Transport et Logistique / Rencontre et Recrutement - Pôle Emploi Agence de Schiltigheim (67)
DTSTART: 20221206T133000
DTEND: 20221206T153000
DESCRIPTION: Le 06 décembre 2022, l'AFT Transport Logistique sera présente à l'agence Pôle Emploi de Schiltigheim afin de faire découvrir les opportunités du secteur transport logistique au public.

&nbsp;
END:VEVENT
BEGIN:VEVENT
SUMMARY: Présentation des métiers du Transport et Logistique / Rencontre et Recrutement - Pôle Emploi Agence de Schiltigheim (67)
DTSTART: 20221206T133000
DTEND: 20221206T153000
DESCRIPTION: Le 06 décembre 2022, l'AFT Transport Logistique sera présente à l'agence Pôle Emploi de Schiltigheim afin de faire découvrir les opportunités du secteur transport logistique au public.

&nbsp;
END:VEVENT
BEGIN:VEVENT
SUMMARY: Présentation des métiers du Transport et Logistique / Rencontre et Recrutement - Pôle Emploi Agence de Schiltigheim (67)
DTSTART: 20221206T133000
DTEND: 20221206T153000
DESCRIPTION: Le 06 décembre 2022, l'AFT Transport Logistique sera présente à l'agence Pôle Emploi de Schiltigheim afin de faire découvrir les opportunités du secteur transport logistique au public.

&nbsp;
END:VEVENT
END:VCALENDAR
