BEGIN:VCALENDAR
VERSION:2.0
METHOD:PUBLISH
X-WR-CALNAME;VALUE=TEXT:Agenda #5089
PRODID:-//Drupal iCal API//EN
BEGIN:VEVENT
SUMMARY: Découverte des métiers Transport et Logistique à Bezannes (51)
DTSTART: 20221205T090000
DTEND: 20221205T103000
DESCRIPTION: Le 5 décembre 2022, l'AFT Transport Logistique sera présente à l'agence Pôle Emploi de Bezannes (51) afin de présenter les opportunités Transport Logistique et échanger avec le public.
END:VEVENT
BEGIN:VEVENT
SUMMARY: Découverte des métiers Transport et Logistique à Bezannes (51)
DTSTART: 20221205T090000
DTEND: 20221205T103000
DESCRIPTION: Le 5 décembre 2022, l'AFT Transport Logistique sera présente à l'agence Pôle Emploi de Bezannes (51) afin de présenter les opportunités Transport Logistique et échanger avec le public.
END:VEVENT
BEGIN:VEVENT
SUMMARY: Découverte des métiers Transport et Logistique à Bezannes (51)
DTSTART: 20221205T090000
DTEND: 20221205T103000
DESCRIPTION: Le 5 décembre 2022, l'AFT Transport Logistique sera présente à l'agence Pôle Emploi de Bezannes (51) afin de présenter les opportunités Transport Logistique et échanger avec le public.
END:VEVENT
END:VCALENDAR
