BEGIN:VCALENDAR
VERSION:2.0
METHOD:PUBLISH
X-WR-CALNAME;VALUE=TEXT:Agenda #5090
PRODID:-//Drupal iCal API//EN
BEGIN:VEVENT
SUMMARY: Focus Métiers Hauts-de-France : Le Transport Routier de Voyageurs
DTSTART: 20221208T123000
DTEND: 20221208T140000
DESCRIPTION: Ne manquez pas notre Focus Métiers Spécial Transport de Voyageurs dans les Hauts-de-France !

Ce Webinaire, d'une durée de 1h30, aura pour objectif de favoriser la&nbsp;découverte les métiers de la Conduite Routière&nbsp;en Transport de Voyageurs.
END:VEVENT
END:VCALENDAR
