BEGIN:VCALENDAR
VERSION:2.0
METHOD:PUBLISH
X-WR-CALNAME;VALUE=TEXT:Agenda #5091
PRODID:-//Drupal iCal API//EN
BEGIN:VEVENT
SUMMARY: Focus Métiers Hauts-de-France :  Le Transport Routier de Marchandises
DTSTART: 20221205T123000
DTEND: 20221205T140000
DESCRIPTION: Si vous souhaitez en savoir plus sur les métiers de la&nbsp;Conduite Routière&nbsp;en Transport Routier de Marchandises, nous vous proposons un rendez-vous pour un nouveau "Focus&nbsp;Métiers".&nbsp;Cette conférences en ligne "Webinar" aura une durée de 1h30.

&nbsp;
END:VEVENT
END:VCALENDAR
