BEGIN:VCALENDAR
VERSION:2.0
METHOD:PUBLISH
X-WR-CALNAME;VALUE=TEXT:Agenda #5092
PRODID:-//Drupal iCal API//EN
BEGIN:VEVENT
SUMMARY: Semaine du Transport et Logistique : Transport Logistic's Tour à Châlons en Champagne (51)
DTSTART: 20221208T073000
DTEND: 20221208T113000
DESCRIPTION: L'agence Pôle Emploi de Châlons en Champagne organise une tournée spéciale Transport et Logistique, une visite pour découvrir quelques grandes entreprises du secteur. l'AFT Transport et Logistique sera présente avec vous pour vous orienter et échanger avec vous sur toutes ces opportunités.

&nbsp;
END:VEVENT
BEGIN:VEVENT
SUMMARY: Semaine du Transport et Logistique : Transport Logistic's Tour à Châlons en Champagne (51)
DTSTART: 20221208T073000
DTEND: 20221208T113000
DESCRIPTION: L'agence Pôle Emploi de Châlons en Champagne organise une tournée spéciale Transport et Logistique, une visite pour découvrir quelques grandes entreprises du secteur. l'AFT Transport et Logistique sera présente avec vous pour vous orienter et échanger avec vous sur toutes ces opportunités.

&nbsp;
END:VEVENT
BEGIN:VEVENT
SUMMARY: Semaine du Transport et Logistique : Transport Logistic's Tour à Châlons en Champagne (51)
DTSTART: 20221208T073000
DTEND: 20221208T113000
DESCRIPTION: L'agence Pôle Emploi de Châlons en Champagne organise une tournée spéciale Transport et Logistique, une visite pour découvrir quelques grandes entreprises du secteur. l'AFT Transport et Logistique sera présente avec vous pour vous orienter et échanger avec vous sur toutes ces opportunités.

&nbsp;
END:VEVENT
BEGIN:VEVENT
SUMMARY: Semaine du Transport et Logistique : Transport Logistic's Tour à Châlons en Champagne (51)
DTSTART: 20221208T073000
DTEND: 20221208T113000
DESCRIPTION: L'agence Pôle Emploi de Châlons en Champagne organise une tournée spéciale Transport et Logistique, une visite pour découvrir quelques grandes entreprises du secteur. l'AFT Transport et Logistique sera présente avec vous pour vous orienter et échanger avec vous sur toutes ces opportunités.

&nbsp;
END:VEVENT
END:VCALENDAR
