BEGIN:VCALENDAR
VERSION:2.0
METHOD:PUBLISH
X-WR-CALNAME;VALUE=TEXT:Agenda #5093
PRODID:-//Drupal iCal API//EN
BEGIN:VEVENT
SUMMARY: Focus Métiers Hauts-de-France : La Logistique
DTSTART: 20221206T083000
DTEND: 20221206T093000
DESCRIPTION: La Délégation de l'AFT des Hauts-de-France organise des&nbsp;Focus Métiers Transport Logistique.&nbsp;Ils sont destinés aux jeunes - de 26 ans, aux&nbsp;demandeurs d'emploi et aux salariés en reconversion.&nbsp;Ces réunions d'information durent une heure et elles sont organisées en visioconférence.

&nbsp;
END:VEVENT
END:VCALENDAR
