BEGIN:VCALENDAR
VERSION:2.0
METHOD:PUBLISH
X-WR-CALNAME;VALUE=TEXT:Agenda #5094
PRODID:-//Drupal iCal API//EN
BEGIN:VEVENT
SUMMARY: Focus Métiers Hauts-de-France : Transport de Marchandises
DTSTART: 20221215T130000
DTEND: 20221215T140000
DESCRIPTION: Vous recherchez des informations sur le secteur&nbsp;du transport de marchandises ?

Découvrez avec nous ces différents métiers en participant à notre conférence en ligne !
END:VEVENT
END:VCALENDAR
