BEGIN:VCALENDAR
VERSION:2.0
METHOD:PUBLISH
X-WR-CALNAME;VALUE=TEXT:Agenda #5095
PRODID:-//Drupal iCal API//EN
BEGIN:VEVENT
SUMMARY: Découverte des métiers Transport et Logistique à Vandoeuvre-les-Nancy (54))
DTSTART: 20221105T080000
DTEND: 20221205T110000
DESCRIPTION: Le 5 décembre 2022, l'AFT Transport Logistique sera présente avec les Transports VIGNERON&nbsp;à l'agence Pôle Emploi de Vandoeuvre-Les-Nancy&nbsp;(54) afin de présenter les métiers et les formation du&nbsp;Transport et de la Logistique.
END:VEVENT
BEGIN:VEVENT
SUMMARY: Découverte des métiers Transport et Logistique à Vandoeuvre-les-Nancy (54))
DTSTART: 20221105T080000
DTEND: 20221205T110000
DESCRIPTION: Le 5 décembre 2022, l'AFT Transport Logistique sera présente avec les Transports VIGNERON&nbsp;à l'agence Pôle Emploi de Vandoeuvre-Les-Nancy&nbsp;(54) afin de présenter les métiers et les formation du&nbsp;Transport et de la Logistique.
END:VEVENT
BEGIN:VEVENT
SUMMARY: Découverte des métiers Transport et Logistique à Vandoeuvre-les-Nancy (54))
DTSTART: 20221105T080000
DTEND: 20221205T110000
DESCRIPTION: Le 5 décembre 2022, l'AFT Transport Logistique sera présente avec les Transports VIGNERON&nbsp;à l'agence Pôle Emploi de Vandoeuvre-Les-Nancy&nbsp;(54) afin de présenter les métiers et les formation du&nbsp;Transport et de la Logistique.
END:VEVENT
BEGIN:VEVENT
SUMMARY: Découverte des métiers Transport et Logistique à Vandoeuvre-les-Nancy (54))
DTSTART: 20221105T080000
DTEND: 20221205T110000
DESCRIPTION: Le 5 décembre 2022, l'AFT Transport Logistique sera présente avec les Transports VIGNERON&nbsp;à l'agence Pôle Emploi de Vandoeuvre-Les-Nancy&nbsp;(54) afin de présenter les métiers et les formation du&nbsp;Transport et de la Logistique.
END:VEVENT
END:VCALENDAR
