BEGIN:VCALENDAR
VERSION:2.0
METHOD:PUBLISH
X-WR-CALNAME;VALUE=TEXT:Agenda #5098
PRODID:-//Drupal iCal API//EN
BEGIN:VEVENT
SUMMARY: Semaine Transport &amp; Logistique - Pôle Emploi Saint Germain en Laye
DTSTART: 20221209T083000
DTEND: 20221209T110000
DESCRIPTION: Dans le cadre de la semaine du transport et logistique, organisée par Pôle Emploi du 5 au 9 décembre,&nbsp;sur l'ensemble du territoire national, l'AFT Transport &amp; Logistique sera présente au Pôle Emploi de Saint Germain en Laye auprès d'un public jeune pour présenter les 50 métiers du secteur et les formations pour y accéder.
END:VEVENT
END:VCALENDAR
