BEGIN:VCALENDAR
VERSION:2.0
METHOD:PUBLISH
X-WR-CALNAME;VALUE=TEXT:Agenda #5099
PRODID:-//Drupal iCal API//EN
BEGIN:VEVENT
SUMMARY: Découverte des métiers Transport et Logistique à METZ Gare
DTSTART: 20221205T130000
DTEND: 20221205T143000
DESCRIPTION: Le 5 décembre 2022, l'AFT Transport Logistique sera présente l'agence Pôle Emploi de Metz Gare&nbsp;(57) afin de présenter les métiers et les formation du&nbsp;Transport et de la Logistique.
END:VEVENT
BEGIN:VEVENT
SUMMARY: Découverte des métiers Transport et Logistique à METZ Gare
DTSTART: 20221205T130000
DTEND: 20221205T143000
DESCRIPTION: Le 5 décembre 2022, l'AFT Transport Logistique sera présente l'agence Pôle Emploi de Metz Gare&nbsp;(57) afin de présenter les métiers et les formation du&nbsp;Transport et de la Logistique.
END:VEVENT
END:VCALENDAR
