BEGIN:VCALENDAR
VERSION:2.0
METHOD:PUBLISH
X-WR-CALNAME;VALUE=TEXT:Agenda #510
PRODID:-//Drupal iCal API//EN
BEGIN:VEVENT
SUMMARY: Réunions d'information en Lorraine
DTSTART: 20170112T080000
DTEND: 20171214T180000
DESCRIPTION: Les prochaines réunion d'information sur les métiers et filières de formation "Transport et Logistique" se tiendront aux dates et lieux suivants Ces réunions sont ouvertes aux demandeurs d'emploi, collégiens et étudiants, salariés, militaires à la recherche d'une reconversion, prescripteurs d'emploi....
END:VEVENT
BEGIN:VEVENT
SUMMARY: Réunions d'information en Lorraine
DTSTART: 20170112T080000
DTEND: 20171214T180000
DESCRIPTION: Les prochaines réunion d'information sur les métiers et filières de formation "Transport et Logistique" se tiendront aux dates et lieux suivants Ces réunions sont ouvertes aux demandeurs d'emploi, collégiens et étudiants, salariés, militaires à la recherche d'une reconversion, prescripteurs d'emploi....
END:VEVENT
BEGIN:VEVENT
SUMMARY: Réunions d'information en Lorraine
DTSTART: 20170112T080000
DTEND: 20171214T180000
DESCRIPTION: Les prochaines réunion d'information sur les métiers et filières de formation "Transport et Logistique" se tiendront aux dates et lieux suivants Ces réunions sont ouvertes aux demandeurs d'emploi, collégiens et étudiants, salariés, militaires à la recherche d'une reconversion, prescripteurs d'emploi....
END:VEVENT
END:VCALENDAR
