BEGIN:VCALENDAR
VERSION:2.0
METHOD:PUBLISH
X-WR-CALNAME;VALUE=TEXT:Agenda #5102
PRODID:-//Drupal iCal API//EN
BEGIN:VEVENT
SUMMARY: Semaine du Transport et de la Logistique
DTSTART: 20221206T130000
DTEND: 20221206T143000
DESCRIPTION: Venez découvrir les&nbsp;métiers et les formations du Transport et&nbsp; de Logistique en visio conférence le 6 décembre 2022 à 14h00.

&nbsp;
END:VEVENT
BEGIN:VEVENT
SUMMARY: Semaine du Transport et de la Logistique
DTSTART: 20221206T130000
DTEND: 20221206T143000
DESCRIPTION: Venez découvrir les&nbsp;métiers et les formations du Transport et&nbsp; de Logistique en visio conférence le 6 décembre 2022 à 14h00.

&nbsp;
END:VEVENT
END:VCALENDAR
