BEGIN:VCALENDAR
VERSION:2.0
METHOD:PUBLISH
X-WR-CALNAME;VALUE=TEXT:Agenda #513
PRODID:-//Drupal iCal API//EN
BEGIN:VEVENT
SUMMARY: Réunion d'information sur les métiers et filières de formation "Transport et logistique"
DTSTART: 20170704T070000
DTEND: 20170704T170000
DESCRIPTION: TOULOUSE : La prochaine réunion d'information sur les métiers et filières de formation "Transport et Logistique" se tiendra à&nbsp;l'AFT&nbsp;&nbsp;72 rue Edmond Rostand à Toulouse&nbsp;MARDI 4 JUILLET&nbsp; 2017&nbsp;à 9 heures sans RDV.

Cette réunion est ouverte aux demandeurs d'emploi, collégiens et étudiants, salariés, militaires à la recherche d'une reconversion, prescripteurs d'emploi....
END:VEVENT
BEGIN:VEVENT
SUMMARY: Réunion d'information sur les métiers et filières de formation "Transport et logistique"
DTSTART: 20170704T070000
DTEND: 20170704T170000
DESCRIPTION: TOULOUSE : La prochaine réunion d'information sur les métiers et filières de formation "Transport et Logistique" se tiendra à&nbsp;l'AFT&nbsp;&nbsp;72 rue Edmond Rostand à Toulouse&nbsp;MARDI 4 JUILLET&nbsp; 2017&nbsp;à 9 heures sans RDV.

Cette réunion est ouverte aux demandeurs d'emploi, collégiens et étudiants, salariés, militaires à la recherche d'une reconversion, prescripteurs d'emploi....
END:VEVENT
BEGIN:VEVENT
SUMMARY: Réunion d'information sur les métiers et filières de formation "Transport et logistique"
DTSTART: 20170704T070000
DTEND: 20170704T170000
DESCRIPTION: TOULOUSE : La prochaine réunion d'information sur les métiers et filières de formation "Transport et Logistique" se tiendra à&nbsp;l'AFT&nbsp;&nbsp;72 rue Edmond Rostand à Toulouse&nbsp;MARDI 4 JUILLET&nbsp; 2017&nbsp;à 9 heures sans RDV.

Cette réunion est ouverte aux demandeurs d'emploi, collégiens et étudiants, salariés, militaires à la recherche d'une reconversion, prescripteurs d'emploi....
END:VEVENT
END:VCALENDAR
