BEGIN:VCALENDAR
VERSION:2.0
METHOD:PUBLISH
X-WR-CALNAME;VALUE=TEXT:Agenda #5136
PRODID:-//Drupal iCal API//EN
BEGIN:VEVENT
SUMMARY: Saint gaudens : ID Métiers "les jeunes parlent aux jeunes"
DTSTART: 20221214T080000
DTEND: 20221214T080000
DESCRIPTION: L'AFT Occitanie sera présente au salon ID Métiers de St Gaudens le Mercredi 14 décembre de 9h à 17h

En savoir plus&nbsp;
END:VEVENT
BEGIN:VEVENT
SUMMARY: Saint gaudens : ID Métiers "les jeunes parlent aux jeunes"
DTSTART: 20221214T080000
DTEND: 20221214T080000
DESCRIPTION: L'AFT Occitanie sera présente au salon ID Métiers de St Gaudens le Mercredi 14 décembre de 9h à 17h

En savoir plus&nbsp;
END:VEVENT
BEGIN:VEVENT
SUMMARY: Saint gaudens : ID Métiers "les jeunes parlent aux jeunes"
DTSTART: 20221214T080000
DTEND: 20221214T080000
DESCRIPTION: L'AFT Occitanie sera présente au salon ID Métiers de St Gaudens le Mercredi 14 décembre de 9h à 17h

En savoir plus&nbsp;
END:VEVENT
BEGIN:VEVENT
SUMMARY: Saint gaudens : ID Métiers "les jeunes parlent aux jeunes"
DTSTART: 20221214T080000
DTEND: 20221214T080000
DESCRIPTION: L'AFT Occitanie sera présente au salon ID Métiers de St Gaudens le Mercredi 14 décembre de 9h à 17h

En savoir plus&nbsp;
END:VEVENT
END:VCALENDAR
