BEGIN:VCALENDAR
VERSION:2.0
METHOD:PUBLISH
X-WR-CALNAME;VALUE=TEXT:Agenda #5143
PRODID:-//Drupal iCal API//EN
BEGIN:VEVENT
SUMMARY: Salon de l’Orientation, de la Formation et de l’Emploi à Oyonnax (SOFEO) (01)
DTSTART: 20221215T073000
DTEND: 20221215T160000
DESCRIPTION: L'AFT Transport &amp; Logistique Rhône-Alpes est présente à l'édition 2022 du SOFEO !
END:VEVENT
END:VCALENDAR
