BEGIN:VCALENDAR
VERSION:2.0
METHOD:PUBLISH
X-WR-CALNAME;VALUE=TEXT:Agenda #5145
PRODID:-//Drupal iCal API//EN
BEGIN:VEVENT
SUMMARY: Ateliers Transport dans les agences France Travail du Beaujolais (69)
DTSTART: 20240125T080000
DTEND: 20240618T143000
DESCRIPTION: Vous habitez en Calades ou dans le Beaujolais&nbsp;?

Vous êtes demandeur d'emploi et recherchez un poste dans un secteur innovant et qui recrute ?

Vous aimez conduire et le contact avec les gens ?

Le transport est fait pour vous !
END:VEVENT
END:VCALENDAR
