BEGIN:VCALENDAR
VERSION:2.0
METHOD:PUBLISH
X-WR-CALNAME;VALUE=TEXT:Agenda #5165
PRODID:-//Drupal iCal API//EN
BEGIN:VEVENT
SUMMARY: Semaine des Parcours Avenir au Collège départemental des Remparts à la Rozay en Brie
DTSTART: 20230125T080000
DTEND: 20230125T110000
DESCRIPTION:
END:VEVENT
END:VCALENDAR
