BEGIN:VCALENDAR
VERSION:2.0
METHOD:PUBLISH
X-WR-CALNAME;VALUE=TEXT:Agenda #5169
PRODID:-//Drupal iCal API//EN
BEGIN:VEVENT
SUMMARY: La Nuit de l'Orientation à Poitiers
DTSTART: 20230118T150000
DTEND: 20230118T210000
DESCRIPTION: L’AFT Transport et Logistique sera présente au titre d'ambassadeur métiers&nbsp;de la Région Nouvelle-Aquitaine lors de la Nuit de l'Orientation&nbsp;qui se déroulera mercredi 18 janvier à Poitiers.
END:VEVENT
BEGIN:VEVENT
SUMMARY: La Nuit de l'Orientation à Poitiers
DTSTART: 20230118T150000
DTEND: 20230118T210000
DESCRIPTION: L’AFT Transport et Logistique sera présente au titre d'ambassadeur métiers&nbsp;de la Région Nouvelle-Aquitaine lors de la Nuit de l'Orientation&nbsp;qui se déroulera mercredi 18 janvier à Poitiers.
END:VEVENT
BEGIN:VEVENT
SUMMARY: La Nuit de l'Orientation à Poitiers
DTSTART: 20230118T150000
DTEND: 20230118T210000
DESCRIPTION: L’AFT Transport et Logistique sera présente au titre d'ambassadeur métiers&nbsp;de la Région Nouvelle-Aquitaine lors de la Nuit de l'Orientation&nbsp;qui se déroulera mercredi 18 janvier à Poitiers.
END:VEVENT
END:VCALENDAR
