BEGIN:VCALENDAR
VERSION:2.0
METHOD:PUBLISH
X-WR-CALNAME;VALUE=TEXT:Agenda #5171
PRODID:-//Drupal iCal API//EN
BEGIN:VEVENT
SUMMARY: Information collective sur les métiers du Transport avec le Groupe Berto IDF Sud à l'agence Pôle Emploi de Brie-Comte-Robert
DTSTART: 20230124T130000
DTEND: 20230124T150000
DESCRIPTION:
END:VEVENT
END:VCALENDAR
