BEGIN:VCALENDAR
VERSION:2.0
METHOD:PUBLISH
X-WR-CALNAME;VALUE=TEXT:Agenda #5174
PRODID:-//Drupal iCal API//EN
BEGIN:VEVENT
SUMMARY: Information collective avec l'IFOCOP sur les métiers de la logistique à l'agence Pôle Emploi de L'Haÿ-les-Roses
DTSTART: 20230130T133000
DTEND: 20230130T153000
DESCRIPTION:
END:VEVENT
END:VCALENDAR
