BEGIN:VCALENDAR
VERSION:2.0
METHOD:PUBLISH
X-WR-CALNAME;VALUE=TEXT:Agenda #5183
PRODID:-//Drupal iCal API//EN
BEGIN:VEVENT
SUMMARY: Forum des métiers et de l'orientation Fougères
DTSTART: 20230120T080000
DTEND: 20230121T120000
DESCRIPTION: L'AFT Transport &amp; Logistique sera présente à l'édition 2023 du Forum des métiers et de l'orientation Fougères, organisé par le Territoire de Fougères Agglomération et Couesnon Marches de Bretagne.

Vous voulez découvrir des métiers ou changer d'orientation ?


	Présence des acteurs et partenaires de la formation
	Animations
	Témoignages
END:VEVENT
BEGIN:VEVENT
SUMMARY: Forum des métiers et de l'orientation Fougères
DTSTART: 20230120T080000
DTEND: 20230121T120000
DESCRIPTION: L'AFT Transport &amp; Logistique sera présente à l'édition 2023 du Forum des métiers et de l'orientation Fougères, organisé par le Territoire de Fougères Agglomération et Couesnon Marches de Bretagne.

Vous voulez découvrir des métiers ou changer d'orientation ?


	Présence des acteurs et partenaires de la formation
	Animations
	Témoignages
END:VEVENT
BEGIN:VEVENT
SUMMARY: Forum des métiers et de l'orientation Fougères
DTSTART: 20230120T080000
DTEND: 20230121T120000
DESCRIPTION: L'AFT Transport &amp; Logistique sera présente à l'édition 2023 du Forum des métiers et de l'orientation Fougères, organisé par le Territoire de Fougères Agglomération et Couesnon Marches de Bretagne.

Vous voulez découvrir des métiers ou changer d'orientation ?


	Présence des acteurs et partenaires de la formation
	Animations
	Témoignages
END:VEVENT
BEGIN:VEVENT
SUMMARY: Forum des métiers et de l'orientation Fougères
DTSTART: 20230120T080000
DTEND: 20230121T120000
DESCRIPTION: L'AFT Transport &amp; Logistique sera présente à l'édition 2023 du Forum des métiers et de l'orientation Fougères, organisé par le Territoire de Fougères Agglomération et Couesnon Marches de Bretagne.

Vous voulez découvrir des métiers ou changer d'orientation ?


	Présence des acteurs et partenaires de la formation
	Animations
	Témoignages
END:VEVENT
END:VCALENDAR
