BEGIN:VCALENDAR
VERSION:2.0
METHOD:PUBLISH
X-WR-CALNAME;VALUE=TEXT:Agenda #5186
PRODID:-//Drupal iCal API//EN
BEGIN:VEVENT
SUMMARY: Réunion des membres de l'OPTL Bretagne 27/01/2023
DTSTART: 20230127T130000
DTEND: 20230127T153000
DESCRIPTION: Les membres de l'OPTL&nbsp;(Observatoire Prospectif des métiers et des qualifications dans les Transports et le Logistique) se réuniront&nbsp;le 27 janvier prochain.

Ordre du jour&nbsp;


	Présentation&nbsp;des chiffres du rapport&nbsp;de l'OPTL Bretagne 2022
	Questions diverses
END:VEVENT
END:VCALENDAR
