BEGIN:VCALENDAR
VERSION:2.0
METHOD:PUBLISH
X-WR-CALNAME;VALUE=TEXT:Agenda #5187
PRODID:-//Drupal iCal API//EN
BEGIN:VEVENT
SUMMARY: Focus métiers 18.janv.23 : Information Transport en Bretagne
DTSTART: 20230118T130000
DTEND: 20230118T143000
DESCRIPTION: Venez participer à une réunion en visio sur les métiers de la conduite !


	Transports de marchandises, voyageurs et sanitaire


Ouvert à tous publics ...
END:VEVENT
BEGIN:VEVENT
SUMMARY: Focus métiers 18.janv.23 : Information Transport en Bretagne
DTSTART: 20230118T130000
DTEND: 20230118T143000
DESCRIPTION: Venez participer à une réunion en visio sur les métiers de la conduite !


	Transports de marchandises, voyageurs et sanitaire


Ouvert à tous publics ...
END:VEVENT
END:VCALENDAR
