BEGIN:VCALENDAR
VERSION:2.0
METHOD:PUBLISH
X-WR-CALNAME;VALUE=TEXT:Agenda #5189
PRODID:-//Drupal iCal API//EN
BEGIN:VEVENT
SUMMARY: Focus métiers 29.mars.23 : Information Transport en Bretagne
DTSTART: 20230329T080000
DTEND: 20230329T093000
DESCRIPTION: Venez participer à une réunion en visio sur les métiers de la conduite !


	Transports de marchandises, voyageurs et sanitaire


Ouvert à tous publics ...
END:VEVENT
BEGIN:VEVENT
SUMMARY: Focus métiers 29.mars.23 : Information Transport en Bretagne
DTSTART: 20230329T080000
DTEND: 20230329T093000
DESCRIPTION: Venez participer à une réunion en visio sur les métiers de la conduite !


	Transports de marchandises, voyageurs et sanitaire


Ouvert à tous publics ...
END:VEVENT
END:VCALENDAR
