BEGIN:VCALENDAR
VERSION:2.0
METHOD:PUBLISH
X-WR-CALNAME;VALUE=TEXT:Agenda #5190
PRODID:-//Drupal iCal API//EN
BEGIN:VEVENT
SUMMARY: Focus métiers 26.janv.23 : Information Logistique Bretagne
DTSTART: 20230126T130000
DTEND: 20230126T143000
DESCRIPTION: Venez participer à une réunion en visio sur les métiers de la Logistique&nbsp;!

Magasinier, Cariste, Préparateur de commandes, Gestionnaire de stocks, Responsable d'entrepôts, ...

Ouvert à tous publics ...
END:VEVENT
BEGIN:VEVENT
SUMMARY: Focus métiers 26.janv.23 : Information Logistique Bretagne
DTSTART: 20230126T130000
DTEND: 20230126T143000
DESCRIPTION: Venez participer à une réunion en visio sur les métiers de la Logistique&nbsp;!

Magasinier, Cariste, Préparateur de commandes, Gestionnaire de stocks, Responsable d'entrepôts, ...

Ouvert à tous publics ...
END:VEVENT
END:VCALENDAR
