BEGIN:VCALENDAR
VERSION:2.0
METHOD:PUBLISH
X-WR-CALNAME;VALUE=TEXT:Agenda #5191
PRODID:-//Drupal iCal API//EN
BEGIN:VEVENT
SUMMARY: Forum des métiers et de l'orientation 2023 à Athis-Mons
DTSTART: 20230203T080000
DTEND: 20230203T170000
DESCRIPTION: La ville d'Athis-Mons organise son rendez-vous annuel de découverte et d'information à destination des collégiens, lycéens et étudiants.
END:VEVENT
END:VCALENDAR
