BEGIN:VCALENDAR
VERSION:2.0
METHOD:PUBLISH
X-WR-CALNAME;VALUE=TEXT:Agenda #5196
PRODID:-//Drupal iCal API//EN
BEGIN:VEVENT
SUMMARY: Atelier Logistique au Pôle Emploi de Villefranche-sur-Saône (69)
DTSTART: 20230109T083000
DTEND: 20230109T083000
DESCRIPTION: Vous habitez dans l'Ain ?

Vous êtes demandeur d'emploi et recherchez un poste dans un secteur innovant et qui recrute ?

Vous aimez conduire et le contact avec les gens ?

La logistique regorge d'opportunités&nbsp;!
END:VEVENT
END:VCALENDAR
