BEGIN:VCALENDAR
VERSION:2.0
METHOD:PUBLISH
X-WR-CALNAME;VALUE=TEXT:Agenda #5204
PRODID:-//Drupal iCal API//EN
BEGIN:VEVENT
SUMMARY: Forum de l'Orientation et des métiers d'Orléans 2023
DTSTART: 20230112T080000
DTEND: 20230114T160000
DESCRIPTION: L'AFT sera présente pour vous informer sur les métiers et les formations du transport et de la logistique lors du Forum de l'Orientation et des métiers d'Orléans du jeudi 12 au samedi 14 janvier 2023.&nbsp;
END:VEVENT
END:VCALENDAR
