BEGIN:VCALENDAR
VERSION:2.0
METHOD:PUBLISH
X-WR-CALNAME;VALUE=TEXT:Agenda #5208
PRODID:-//Drupal iCal API//EN
BEGIN:VEVENT
SUMMARY: LE BARCARES : Présentation des métiers de la logistique
DTSTART: 20230118T130000
DTEND: 20230118T130000
DESCRIPTION: L'AFT Transport &amp; Logistique Occitanie présentera les métiers de la logistique aux jeunes de la Maison des jeunes de Barcarès le Mercredi 18 janvier prochain de 14h à 17h&nbsp;
END:VEVENT
BEGIN:VEVENT
SUMMARY: LE BARCARES : Présentation des métiers de la logistique
DTSTART: 20230118T130000
DTEND: 20230118T130000
DESCRIPTION: L'AFT Transport &amp; Logistique Occitanie présentera les métiers de la logistique aux jeunes de la Maison des jeunes de Barcarès le Mercredi 18 janvier prochain de 14h à 17h&nbsp;
END:VEVENT
BEGIN:VEVENT
SUMMARY: LE BARCARES : Présentation des métiers de la logistique
DTSTART: 20230118T130000
DTEND: 20230118T130000
DESCRIPTION: L'AFT Transport &amp; Logistique Occitanie présentera les métiers de la logistique aux jeunes de la Maison des jeunes de Barcarès le Mercredi 18 janvier prochain de 14h à 17h&nbsp;
END:VEVENT
END:VCALENDAR
