BEGIN:VCALENDAR
VERSION:2.0
METHOD:PUBLISH
X-WR-CALNAME;VALUE=TEXT:Agenda #5254
PRODID:-//Drupal iCal API//EN
BEGIN:VEVENT
SUMMARY: Atelier découverte du secteur du transport à la Mission Locale Sud Deux-Sèvres
DTSTART: 20230126T090000
DTEND: 20230126T110000
DESCRIPTION: La Mission Locale Sud Deux-Sèvres accueillera l'AFT dans ses locaux de Niort le jeudi 26 janvier prochain pour un atelier dédié à la découverte du secteur Transport-Logique et de ses métiers.&nbsp;
END:VEVENT
END:VCALENDAR
