BEGIN:VCALENDAR
VERSION:2.0
METHOD:PUBLISH
X-WR-CALNAME;VALUE=TEXT:Agenda #5255
PRODID:-//Drupal iCal API//EN
BEGIN:VEVENT
SUMMARY:  XPO Logistics Ussac (19) ouvre ses portes !
DTSTART: 20230202T080000
DTEND: 20230202T160000
DESCRIPTION: Venez rencontrer les équipes XPO Logistics à Ussac (ZAC de la Gare), échanger, visiter le site, découvrir les métiers, tester la réalité virtuelle....

de 9h à 12h accueil des publics scolaires

de 14h à 17h ouvert à tous

sur inscription&nbsp;
END:VEVENT
BEGIN:VEVENT
SUMMARY:  XPO Logistics Ussac (19) ouvre ses portes !
DTSTART: 20230202T080000
DTEND: 20230202T160000
DESCRIPTION: Venez rencontrer les équipes XPO Logistics à Ussac (ZAC de la Gare), échanger, visiter le site, découvrir les métiers, tester la réalité virtuelle....

de 9h à 12h accueil des publics scolaires

de 14h à 17h ouvert à tous

sur inscription&nbsp;
END:VEVENT
BEGIN:VEVENT
SUMMARY:  XPO Logistics Ussac (19) ouvre ses portes !
DTSTART: 20230202T080000
DTEND: 20230202T160000
DESCRIPTION: Venez rencontrer les équipes XPO Logistics à Ussac (ZAC de la Gare), échanger, visiter le site, découvrir les métiers, tester la réalité virtuelle....

de 9h à 12h accueil des publics scolaires

de 14h à 17h ouvert à tous

sur inscription&nbsp;
END:VEVENT
END:VCALENDAR
