BEGIN:VCALENDAR
VERSION:2.0
METHOD:PUBLISH
X-WR-CALNAME;VALUE=TEXT:Agenda #5258
PRODID:-//Drupal iCal API//EN
BEGIN:VEVENT
SUMMARY: Visite du centre AFTRAL de Savigny-le-Temple avec Log'ins
DTSTART: 20230207T133000
DTEND: 20230207T133000
DESCRIPTION: La Délégation AFT Ile-de-France accompagnera Log'ins pour visiter le&nbsp;centre de formation AFTRAL situé à Savigny-le-Temple.

Log'ins (Joint-Venture Sociale du Groupe Ares (Association pour la Réinsertion Economique et Sociale et de GXO Logistics) est un bel exemple d’engagement et de solidarité en faveur de l’inclusion des personnes en situation de handicap et éloignées de l'emploi pour intégrer à l'issue d'un parcours d'insertion une entreprise classique.&nbsp;
END:VEVENT
END:VCALENDAR
