BEGIN:VCALENDAR
VERSION:2.0
METHOD:PUBLISH
X-WR-CALNAME;VALUE=TEXT:Agenda #5259
PRODID:-//Drupal iCal API//EN
BEGIN:VEVENT
SUMMARY: L'AFT au COFEM de Bressuire le 28/01/2023
DTSTART: 20230128T080000
DTEND: 20230128T160000
DESCRIPTION: Le Carrefour de l’Orientation, de la Formation, de l’Emploi et des Métiers 2023 se déroulera le samedi 28 Janvier à Bocapole Bressuire.
END:VEVENT
BEGIN:VEVENT
SUMMARY: L'AFT au COFEM de Bressuire le 28/01/2023
DTSTART: 20230128T080000
DTEND: 20230128T160000
DESCRIPTION: Le Carrefour de l’Orientation, de la Formation, de l’Emploi et des Métiers 2023 se déroulera le samedi 28 Janvier à Bocapole Bressuire.
END:VEVENT
BEGIN:VEVENT
SUMMARY: L'AFT au COFEM de Bressuire le 28/01/2023
DTSTART: 20230128T080000
DTEND: 20230128T160000
DESCRIPTION: Le Carrefour de l’Orientation, de la Formation, de l’Emploi et des Métiers 2023 se déroulera le samedi 28 Janvier à Bocapole Bressuire.
END:VEVENT
END:VCALENDAR
