BEGIN:VCALENDAR
VERSION:2.0
METHOD:PUBLISH
X-WR-CALNAME;VALUE=TEXT:Agenda #5262
PRODID:-//Drupal iCal API//EN
BEGIN:VEVENT
SUMMARY: XPO Logistics ouvre ses portes à la Crèche (79)
DTSTART: 20230131T080000
DTEND: 20230131T160000
DESCRIPTION: Venez découvrir une entreprise du secteur du Transport&nbsp;et&nbsp;de la Logistique qui offre des opportunités d'emploi.
END:VEVENT
BEGIN:VEVENT
SUMMARY: XPO Logistics ouvre ses portes à la Crèche (79)
DTSTART: 20230131T080000
DTEND: 20230131T160000
DESCRIPTION: Venez découvrir une entreprise du secteur du Transport&nbsp;et&nbsp;de la Logistique qui offre des opportunités d'emploi.
END:VEVENT
BEGIN:VEVENT
SUMMARY: XPO Logistics ouvre ses portes à la Crèche (79)
DTSTART: 20230131T080000
DTEND: 20230131T160000
DESCRIPTION: Venez découvrir une entreprise du secteur du Transport&nbsp;et&nbsp;de la Logistique qui offre des opportunités d'emploi.
END:VEVENT
BEGIN:VEVENT
SUMMARY: XPO Logistics ouvre ses portes à la Crèche (79)
DTSTART: 20230131T080000
DTEND: 20230131T160000
DESCRIPTION: Venez découvrir une entreprise du secteur du Transport&nbsp;et&nbsp;de la Logistique qui offre des opportunités d'emploi.
END:VEVENT
END:VCALENDAR
