BEGIN:VCALENDAR
VERSION:2.0
METHOD:PUBLISH
X-WR-CALNAME;VALUE=TEXT:Agenda #5269
PRODID:-//Drupal iCal API//EN
BEGIN:VEVENT
SUMMARY: Cordée de la réussite Transport / Logistique
DTSTART: 20230117T080000
DTEND: 20230117T080000
DESCRIPTION: Dans le cadre de la&nbsp;cordée de la réussite, le lycée Pierre Mendès France, établissement tête de cordée Campus TL, a organisé au sein de son établissement un forum à destination des 4e et 3e des collèges.
END:VEVENT
BEGIN:VEVENT
SUMMARY: Cordée de la réussite Transport / Logistique
DTSTART: 20230117T080000
DTEND: 20230117T080000
DESCRIPTION: Dans le cadre de la&nbsp;cordée de la réussite, le lycée Pierre Mendès France, établissement tête de cordée Campus TL, a organisé au sein de son établissement un forum à destination des 4e et 3e des collèges.
END:VEVENT
BEGIN:VEVENT
SUMMARY: Cordée de la réussite Transport / Logistique
DTSTART: 20230117T080000
DTEND: 20230117T080000
DESCRIPTION: Dans le cadre de la&nbsp;cordée de la réussite, le lycée Pierre Mendès France, établissement tête de cordée Campus TL, a organisé au sein de son établissement un forum à destination des 4e et 3e des collèges.
END:VEVENT
END:VCALENDAR
