BEGIN:VCALENDAR
VERSION:2.0
METHOD:PUBLISH
X-WR-CALNAME;VALUE=TEXT:Agenda #5270
PRODID:-//Drupal iCal API//EN
BEGIN:VEVENT
SUMMARY: Forum Emploi Transport - Logistique à Andrézieux-Bouthéon (42)
DTSTART: 20230131T080000
DTEND: 20230131T160000
DESCRIPTION: XPO Logistics ouvre ses portes aux scolaires et demandeurs d'emploi !

&nbsp;
END:VEVENT
BEGIN:VEVENT
SUMMARY: Forum Emploi Transport - Logistique à Andrézieux-Bouthéon (42)
DTSTART: 20230131T080000
DTEND: 20230131T160000
DESCRIPTION: XPO Logistics ouvre ses portes aux scolaires et demandeurs d'emploi !

&nbsp;
END:VEVENT
END:VCALENDAR
