BEGIN:VCALENDAR
VERSION:2.0
METHOD:PUBLISH
X-WR-CALNAME;VALUE=TEXT:Agenda #5275
PRODID:-//Drupal iCal API//EN
BEGIN:VEVENT
SUMMARY: Forum Emploi Transport - Logistique à Valserhône (01)
DTSTART: 20230202T080000
DTEND: 20230202T160000
DESCRIPTION: XPO Logistics ouvre ses portes aux scolaires et demandeurs d'emploi !

&nbsp;



&nbsp;
END:VEVENT
END:VCALENDAR
